BEGIN:VCALENDAR
VERSION:2.0
PRODID:-//American Flight Schools - ECPv6.15.18//NONSGML v1.0//EN
CALSCALE:GREGORIAN
METHOD:PUBLISH
X-WR-CALNAME:American Flight Schools
X-ORIGINAL-URL:https://americanflightschools.com
X-WR-CALDESC:Events for American Flight Schools
REFRESH-INTERVAL;VALUE=DURATION:PT1H
X-Robots-Tag:noindex
X-PUBLISHED-TTL:PT1H
BEGIN:VTIMEZONE
TZID:America/Denver
BEGIN:DAYLIGHT
TZOFFSETFROM:-0700
TZOFFSETTO:-0600
TZNAME:MDT
DTSTART:20230312T090000
END:DAYLIGHT
BEGIN:STANDARD
TZOFFSETFROM:-0600
TZOFFSETTO:-0700
TZNAME:MST
DTSTART:20231105T080000
END:STANDARD
BEGIN:DAYLIGHT
TZOFFSETFROM:-0700
TZOFFSETTO:-0600
TZNAME:MDT
DTSTART:20240310T090000
END:DAYLIGHT
BEGIN:STANDARD
TZOFFSETFROM:-0600
TZOFFSETTO:-0700
TZNAME:MST
DTSTART:20241103T080000
END:STANDARD
BEGIN:DAYLIGHT
TZOFFSETFROM:-0700
TZOFFSETTO:-0600
TZNAME:MDT
DTSTART:20250309T090000
END:DAYLIGHT
BEGIN:STANDARD
TZOFFSETFROM:-0600
TZOFFSETTO:-0700
TZNAME:MST
DTSTART:20251102T080000
END:STANDARD
BEGIN:DAYLIGHT
TZOFFSETFROM:-0700
TZOFFSETTO:-0600
TZNAME:MDT
DTSTART:20260308T090000
END:DAYLIGHT
BEGIN:STANDARD
TZOFFSETFROM:-0600
TZOFFSETTO:-0700
TZNAME:MST
DTSTART:20261101T080000
END:STANDARD
BEGIN:DAYLIGHT
TZOFFSETFROM:-0700
TZOFFSETTO:-0600
TZNAME:MDT
DTSTART:20270314T090000
END:DAYLIGHT
BEGIN:STANDARD
TZOFFSETFROM:-0600
TZOFFSETTO:-0700
TZNAME:MST
DTSTART:20271107T080000
END:STANDARD
END:VTIMEZONE
BEGIN:VEVENT
DTSTART;TZID=America/Denver:20241215T120000
DTEND;TZID=America/Denver:20241215T160000
DTSTAMP:20260422T205746
CREATED:20240806T163352Z
LAST-MODIFIED:20240806T164018Z
UID:19361-1734264000-1734278400@americanflightschools.com
SUMMARY:Mountain Flying Ground School at KAPA
DESCRIPTION:This seminar is ground training where you will learn the basics of how to fly in Colorado’s mountains. You will learn the fundamentals of performance considerations\, developing go-no-go judgment skills\, mountain flight planning\, and developing confidence for mountain flying. Prior to attending the Aspen Mountain Ground Course\, please complete the AOPA Mountain Flying online course. \nTo register\, click here.
URL:https://americanflightschools.com/event/mountain-flying-ground-school-at-kapa-3/
LOCATION:Aspen Flying Club\, 13000 E Control Tower Rd\, Englewood\, CO\, CO\, 80112\, United States
CATEGORIES:Mountain Flying Ground School
END:VEVENT
BEGIN:VEVENT
DTSTART;TZID=America/Denver:20250117T160000
DTEND;TZID=America/Denver:20250117T200000
DTSTAMP:20260422T205746
CREATED:20241224T164951Z
LAST-MODIFIED:20241224T164951Z
UID:20586-1737129600-1737144000@americanflightschools.com
SUMMARY:Mountain Flying Ground School at KBJC
DESCRIPTION:This seminar is ground training where you will learn the basics of how to fly in Colorado’s mountains. You will learn the fundamentals of performance considerations\, developing go-no-go judgment skills\, mountain flight planning\, and developing confidence for mountain flying. \nTo register\, click here.
URL:https://americanflightschools.com/event/mountain-flying-ground-school-at-kbjc/
LOCATION:Western Air Flight Academy\, 11915 AIRPORT WAY\, BROOMFIELD\, CO\, 80021-2547\, United States
CATEGORIES:Mountain Flying Ground School
END:VEVENT
BEGIN:VEVENT
DTSTART;TZID=America/Denver:20250308T120000
DTEND;TZID=America/Denver:20250308T160000
DTSTAMP:20260422T205746
CREATED:20240806T163442Z
LAST-MODIFIED:20250116T160954Z
UID:19362-1741435200-1741449600@americanflightschools.com
SUMMARY:Mountain Flying Ground School at KAPA
DESCRIPTION:This seminar is ground training where you will learn the basics of how to fly in Colorado’s mountains. You will learn the fundamentals of performance considerations\, developing go-no-go judgment skills\, mountain flight planning\, and developing confidence for mountain flying. Prior to attending the Aspen Mountain Ground Course\, please complete the AOPA Mountain Flying online course. \nTo register\, click here.
URL:https://americanflightschools.com/event/mountain-flying-ground-school-at-kapa-4/
LOCATION:Aspen Flying Club\, 13000 E Control Tower Rd\, Englewood\, CO\, CO\, 80112\, United States
CATEGORIES:Mountain Flying Ground School
END:VEVENT
BEGIN:VEVENT
DTSTART;TZID=America/Denver:20250321T160000
DTEND;TZID=America/Denver:20250321T200000
DTSTAMP:20260422T205746
CREATED:20241224T165050Z
LAST-MODIFIED:20241224T165050Z
UID:20587-1742572800-1742587200@americanflightschools.com
SUMMARY:Mountain Flying Ground School at KBJC
DESCRIPTION:This seminar is ground training where you will learn the basics of how to fly in Colorado’s mountains. You will learn the fundamentals of performance considerations\, developing go-no-go judgment skills\, mountain flight planning\, and developing confidence for mountain flying. \nTo register\, click here.
URL:https://americanflightschools.com/event/mountain-flying-ground-school-at-kbjc-2/
LOCATION:Western Air Flight Academy\, 11915 AIRPORT WAY\, BROOMFIELD\, CO\, 80021-2547\, United States
CATEGORIES:Mountain Flying Ground School
END:VEVENT
BEGIN:VEVENT
DTSTART;TZID=America/Denver:20250516T160000
DTEND;TZID=America/Denver:20250516T200000
DTSTAMP:20260422T205746
CREATED:20241224T165145Z
LAST-MODIFIED:20241224T165145Z
UID:20588-1747411200-1747425600@americanflightschools.com
SUMMARY:Mountain Flying Ground School at KBJC
DESCRIPTION:This seminar is ground training where you will learn the basics of how to fly in Colorado’s mountains. You will learn the fundamentals of performance considerations\, developing go-no-go judgment skills\, mountain flight planning\, and developing confidence for mountain flying. \nTo register\, click here.
URL:https://americanflightschools.com/event/mountain-flying-ground-school-at-kbjc-3/
LOCATION:Western Air Flight Academy\, 11915 AIRPORT WAY\, BROOMFIELD\, CO\, 80021-2547\, United States
CATEGORIES:Mountain Flying Ground School
END:VEVENT
BEGIN:VEVENT
DTSTART;TZID=America/Denver:20250618T120000
DTEND;TZID=America/Denver:20250618T160000
DTSTAMP:20260422T205746
CREATED:20240806T163538Z
LAST-MODIFIED:20250116T160858Z
UID:19363-1750248000-1750262400@americanflightschools.com
SUMMARY:Mountain Flying Ground School at KAPA
DESCRIPTION:This seminar is ground training where you will learn the basics of how to fly in Colorado’s mountains. You will learn the fundamentals of performance considerations\, developing go-no-go judgment skills\, mountain flight planning\, and developing confidence for mountain flying. Prior to attending the Aspen Mountain Ground Course\, please complete the AOPA Mountain Flying online course. \nTo register\, click here.
URL:https://americanflightschools.com/event/mountain-flying-ground-school-at-kapa-5/
LOCATION:Aspen Flying Club\, 13000 E Control Tower Rd\, Englewood\, CO\, CO\, 80112\, United States
CATEGORIES:Mountain Flying Ground School
END:VEVENT
BEGIN:VEVENT
DTSTART;TZID=America/Denver:20250718T160000
DTEND;TZID=America/Denver:20250718T200000
DTSTAMP:20260422T205746
CREATED:20241224T165241Z
LAST-MODIFIED:20241224T165241Z
UID:20589-1752854400-1752868800@americanflightschools.com
SUMMARY:Mountain Flying Ground School at KBJC
DESCRIPTION:This seminar is ground training where you will learn the basics of how to fly in Colorado’s mountains. You will learn the fundamentals of performance considerations\, developing go-no-go judgment skills\, mountain flight planning\, and developing confidence for mountain flying. \nTo register\, click here.
URL:https://americanflightschools.com/event/mountain-flying-ground-school-at-kbjc-12/
LOCATION:Western Air Flight Academy\, 11915 AIRPORT WAY\, BROOMFIELD\, CO\, 80021-2547\, United States
CATEGORIES:Mountain Flying Ground School
END:VEVENT
BEGIN:VEVENT
DTSTART;TZID=America/Denver:20250919T160000
DTEND;TZID=America/Denver:20250919T200000
DTSTAMP:20260422T205746
CREATED:20241224T165330Z
LAST-MODIFIED:20241224T165331Z
UID:20590-1758297600-1758312000@americanflightschools.com
SUMMARY:Mountain Flying Ground School at KBJC
DESCRIPTION:This seminar is ground training where you will learn the basics of how to fly in Colorado’s mountains. You will learn the fundamentals of performance considerations\, developing go-no-go judgment skills\, mountain flight planning\, and developing confidence for mountain flying. \nTo register\, click here.
URL:https://americanflightschools.com/event/mountain-flying-ground-school-at-kbjc-13/
LOCATION:Western Air Flight Academy\, 11915 AIRPORT WAY\, BROOMFIELD\, CO\, 80021-2547\, United States
CATEGORIES:Mountain Flying Ground School
END:VEVENT
BEGIN:VEVENT
DTSTART;TZID=America/Denver:20250920T100000
DTEND;TZID=America/Denver:20250920T140000
DTSTAMP:20260422T205746
CREATED:20240806T163627Z
LAST-MODIFIED:20250916T221903Z
UID:19364-1758362400-1758376800@americanflightschools.com
SUMMARY:Mountain Flying Ground School at KAPA
DESCRIPTION:This seminar is ground training where you will learn the basics of how to fly in Colorado’s mountains. You will learn the fundamentals of performance considerations\, developing go-no-go judgment skills\, mountain flight planning\, and developing confidence for mountain flying. Prior to attending the Aspen Mountain Ground Course\, please complete the AOPA Mountain Flying online course. \nTo register\, click here.
URL:https://americanflightschools.com/event/mountain-flying-ground-school-at-kapa-6/
LOCATION:Aspen Flying Club\, 13000 E Control Tower Rd\, Englewood\, CO\, CO\, 80112\, United States
CATEGORIES:Mountain Flying Ground School
END:VEVENT
BEGIN:VEVENT
DTSTART;TZID=America/Denver:20251121T160000
DTEND;TZID=America/Denver:20251121T200000
DTSTAMP:20260422T205746
CREATED:20241224T165420Z
LAST-MODIFIED:20241224T165420Z
UID:20591-1763740800-1763755200@americanflightschools.com
SUMMARY:Mountain Flying Ground School at KBJC
DESCRIPTION:This seminar is ground training where you will learn the basics of how to fly in Colorado’s mountains. You will learn the fundamentals of performance considerations\, developing go-no-go judgment skills\, mountain flight planning\, and developing confidence for mountain flying. \nTo register\, click here.
URL:https://americanflightschools.com/event/mountain-flying-ground-school-at-kbjc-14/
LOCATION:Western Air Flight Academy\, 11915 AIRPORT WAY\, BROOMFIELD\, CO\, 80021-2547\, United States
CATEGORIES:Mountain Flying Ground School
END:VEVENT
BEGIN:VEVENT
DTSTART;TZID=America/Denver:20260111T120000
DTEND;TZID=America/Denver:20260111T160000
DTSTAMP:20260422T205746
CREATED:20240806T163705Z
LAST-MODIFIED:20260102T161721Z
UID:19365-1768132800-1768147200@americanflightschools.com
SUMMARY:Mountain Flying Ground School at KAPA
DESCRIPTION:This seminar is ground training where you will learn the basics of how to fly in Colorado’s mountains. You will learn the fundamentals of performance considerations\, developing go-no-go judgment skills\, mountain flight planning\, and developing confidence for mountain flying. Prior to attending the Aspen Mountain Ground Course\, please complete the AOPA Mountain Flying online course. \nTo register\, click here.
URL:https://americanflightschools.com/event/mountain-flying-ground-school-at-kapa-7/
LOCATION:Aspen Flying Club\, 13000 E Control Tower Rd\, Englewood\, CO\, CO\, 80112\, United States
CATEGORIES:Mountain Flying Ground School
END:VEVENT
BEGIN:VEVENT
DTSTART;TZID=America/Denver:20260314T100000
DTEND;TZID=America/Denver:20260314T140000
DTSTAMP:20260422T205746
CREATED:20251211T152954Z
LAST-MODIFIED:20251211T152954Z
UID:22300-1773482400-1773496800@americanflightschools.com
SUMMARY:Mountain Flying Ground School at KCFO
DESCRIPTION:This seminar is ground training where you will learn the basics of how to fly in Colorado’s mountains. You will learn the fundamentals of performance considerations\, developing go-no-go judgment skills\, mountain flight planning\, and developing confidence for mountain flying. \nTo register\, click here.
URL:https://americanflightschools.com/event/mountain-flying-ground-school-at-kcfo/
LOCATION:Western Air Flight Academy at KCFO\, 37835 Astra Way\, Watkins\, CO\, 80137\, United States
CATEGORIES:Mountain Flying Ground School
END:VEVENT
BEGIN:VEVENT
DTSTART;TZID=America/Denver:20260328T100000
DTEND;TZID=America/Denver:20260328T140000
DTSTAMP:20260422T205746
CREATED:20260109T154550Z
LAST-MODIFIED:20260126T182244Z
UID:22531-1774692000-1774706400@americanflightschools.com
SUMMARY:Mountain Flying Ground School at KBJC
DESCRIPTION:This seminar is ground training where you will learn the basics of how to fly in Colorado’s mountains. You will learn the fundamentals of performance considerations\, developing go-no-go judgment skills\, mountain flight planning\, and developing confidence for mountain flying. \nTo register\, click here.
URL:https://americanflightschools.com/event/mountain-flying-ground-school-at-kbjc-15/
LOCATION:Western Air Flight Academy\, 11915 AIRPORT WAY\, BROOMFIELD\, CO\, 80021-2547\, United States
CATEGORIES:Mountain Flying Ground School
END:VEVENT
BEGIN:VEVENT
DTSTART;TZID=America/Denver:20260926T100000
DTEND;TZID=America/Denver:20260926T140000
DTSTAMP:20260422T205746
CREATED:20260109T154718Z
LAST-MODIFIED:20260109T154718Z
UID:22532-1790416800-1790431200@americanflightschools.com
SUMMARY:Mountain Flying Ground School at KBJC
DESCRIPTION:This seminar is ground training where you will learn the basics of how to fly in Colorado’s mountains. You will learn the fundamentals of performance considerations\, developing go-no-go judgment skills\, mountain flight planning\, and developing confidence for mountain flying. \nTo register\, click here.
URL:https://americanflightschools.com/event/mountain-flying-ground-school-at-kbjc-16/
LOCATION:Western Air Flight Academy\, 11915 AIRPORT WAY\, BROOMFIELD\, CO\, 80021-2547\, United States
CATEGORIES:Mountain Flying Ground School
END:VEVENT
BEGIN:VEVENT
DTSTART;TZID=America/Denver:20261212T100000
DTEND;TZID=America/Denver:20261212T140000
DTSTAMP:20260422T205746
CREATED:20260109T154808Z
LAST-MODIFIED:20260109T154808Z
UID:22533-1797069600-1797084000@americanflightschools.com
SUMMARY:Mountain Flying Ground School at KBJC
DESCRIPTION:This seminar is ground training where you will learn the basics of how to fly in Colorado’s mountains. You will learn the fundamentals of performance considerations\, developing go-no-go judgment skills\, mountain flight planning\, and developing confidence for mountain flying. \nTo register\, click here.
URL:https://americanflightschools.com/event/mountain-flying-ground-school-at-kbjc-17/
LOCATION:Western Air Flight Academy\, 11915 AIRPORT WAY\, BROOMFIELD\, CO\, 80021-2547\, United States
CATEGORIES:Mountain Flying Ground School
END:VEVENT
END:VCALENDAR