BEGIN:VCALENDAR
VERSION:2.0
PRODID:-//American Flight Schools - ECPv6.15.18//NONSGML v1.0//EN
CALSCALE:GREGORIAN
METHOD:PUBLISH
X-ORIGINAL-URL:https://americanflightschools.com
X-WR-CALDESC:Events for American Flight Schools
REFRESH-INTERVAL;VALUE=DURATION:PT1H
X-Robots-Tag:noindex
X-PUBLISHED-TTL:PT1H
BEGIN:VTIMEZONE
TZID:America/Denver
BEGIN:DAYLIGHT
TZOFFSETFROM:-0700
TZOFFSETTO:-0600
TZNAME:MDT
DTSTART:20200308T090000
END:DAYLIGHT
BEGIN:STANDARD
TZOFFSETFROM:-0600
TZOFFSETTO:-0700
TZNAME:MST
DTSTART:20201101T080000
END:STANDARD
BEGIN:DAYLIGHT
TZOFFSETFROM:-0700
TZOFFSETTO:-0600
TZNAME:MDT
DTSTART:20210314T090000
END:DAYLIGHT
BEGIN:STANDARD
TZOFFSETFROM:-0600
TZOFFSETTO:-0700
TZNAME:MST
DTSTART:20211107T080000
END:STANDARD
BEGIN:DAYLIGHT
TZOFFSETFROM:-0700
TZOFFSETTO:-0600
TZNAME:MDT
DTSTART:20220313T090000
END:DAYLIGHT
BEGIN:STANDARD
TZOFFSETFROM:-0600
TZOFFSETTO:-0700
TZNAME:MST
DTSTART:20221106T080000
END:STANDARD
END:VTIMEZONE
BEGIN:VEVENT
DTSTART;TZID=America/Denver:20210821T090000
DTEND;TZID=America/Denver:20210821T120000
DTSTAMP:20260423T191205
CREATED:20210728T220727Z
LAST-MODIFIED:20210728T220727Z
UID:9032-1629536400-1629547200@americanflightschools.com
SUMMARY:Mountain Flying Ground School at KLVK
DESCRIPTION:This seminar is ground training where you will learn the basics of how to fly in the mountains. You will learn the fundamentals of performance considerations\, developing go-no-go judgment skills\, mountain flight planning\, and developing confidence for mountain flying. \nTo register\, click here.
URL:https://americanflightschools.com/event/mountain-flying-ground-school-at-klvk-2/
LOCATION:Bay Area Flying Club\, 550 Airway Blvd.\, Livermore\, CA\, 94551\, United States
CATEGORIES:Mountain Flying Ground School
END:VEVENT
END:VCALENDAR